BEGIN:VCALENDAR
VERSION:2.0
PRODID:-//https://matutando.projetos.superix.site///NONSGML kigkonsult.se iCalcreator 2.10.15//
METHOD:PUBLISH
BEGIN:VEVENT
UID:20260426T090503CST-2505zAuTA0@https://matutando.projetos.superix.site/
DTSTAMP:20260426T010503Z
DESCRIPTION:Forró de Dia é uma delícia\nVoltamos com as matinês e teremos a
  1ª edição do ano\,\nrecebendo 'Diana do Sertão\n\n Inicio\n15:00\n Términ
 o\n23:00\n .\n\n\n Nome da Casa\nA Casa da Música - Forró do Provolone\n L
 ocalização \nAvenida Duque de Caxias 89\, Santa Cecília\n Consulte os Valo
 res no site oficial\n.\n\n\n\n \n \n \n\n\n \n \n \n\n\n\nCompre antecipad
 o aqui.\n Comprar Ingressos\n\nMais informações\nClique Aqui\n\nⓘ\nⓘ Garan
 ta seu ingresso\n https://matutando.projetos.superix.site/agenda/evento/14
 -diana-do-sertao-forro-do-provolone
DTSTART:20240120T180000Z
DTEND:20240121T025000Z
LOCATION:A Casa da Música (Avenida Duque de Caxias 89\, Santa Cecília\, São
  Paulo\, 01214-100)
SUMMARY:Diana do Sertão - Forró do Provolone
URL:https://matutando.projetos.superix.site/agenda/evento/14-diana-do-serta
 o-forro-do-provolone
END:VEVENT
END:VCALENDAR
