BEGIN:VCALENDAR
VERSION:2.0
PRODID:-//https://matutando.projetos.superix.site///NONSGML kigkonsult.se iCalcreator 2.10.15//
METHOD:PUBLISH
BEGIN:VEVENT
UID:20260426T055256CST-4973vO7fKM@https://matutando.projetos.superix.site/
DTSTAMP:20260425T215256Z
DESCRIPTION:MEGA ENCONTRO DE FORROZEIROS - No Forró Predileto\nShow com Dia
 na do Sertão com Participação de Priscila Frade\n \n\n Horário de Abertura
 \nAbertura da casa às 18:00\n Horário de Fechamento\nApós término do show\
 , por volta das 16:00.\n Horário do Show\nPor volta de 08:30\n\n Nome da C
 asa\nVille Sport Shows\n Localização \nEstrada Rosemary Hidalgo dos Santos
 \, 81 - Refúgio dos Bandeirantes\, Santana de Parnaíba - SP\, 06506-001\, 
 Brasil\n Valores\nEntrada masculina e feminina\n\n\n\n❯❯ Inteira\n━ R$ 260
 \,00\n \n\n\n❯❯ Meia\n━ R$ 00\,00\n \n\n\n\nEvite filas\, compre antecipad
 o aqui.\n Comprar Ingressos\n\nLink do evento Instagram\n Participar do Ev
 ento\n\nⓘ INGRESSOS LIMITADOS\nⓘ Proibida a entrada de menores de 18 anos.
 \n+info: 11 94523-0144\n https://matutando.projetos.superix.site/agenda/ev
 ento/25-diana-do-sertao-mega-encontro-de-forrozeiro
DTSTART;VALUE=DATE:20240310
LOCATION: ()
SUMMARY:Diana do Sertão - Mega Encontro de Forrozeiro
URL:https://matutando.projetos.superix.site/agenda/evento/25-diana-do-serta
 o-mega-encontro-de-forrozeiro
END:VEVENT
END:VCALENDAR
