BEGIN:VCALENDAR
VERSION:2.0
PRODID:-//https://matutando.projetos.superix.site///NONSGML kigkonsult.se iCalcreator 2.10.15//
METHOD:PUBLISH
BEGIN:VEVENT
UID:20260426T055216CST-4179azVpf7@https://matutando.projetos.superix.site/
DTSTAMP:20260425T215216Z
DESCRIPTION:Nova temporada no Brasuca MultiCultural com o projeto 'Tradiçõe
 s'Contará com o incrível show de 'Diana do Sertão' do novo EP: 'Sou Diana 
 do Sertão'\n Nome do Festival: Brasuca - Diana do Sertão\n Localização:Av.
  Santa Isabel\, 800 - Barão Geraldo\, Campinas - SP\, 13084-012 Consulte o
 s Valores no site oficial\n.\n\n\n\n \n \n \n\n\n \n \n \n\n\n\nCompre ant
 ecipado aqui.\n Comprar Ingressos\n\nMais informações\nClique Aqui\n\nⓘ\nⓘ
  Garanta seu ingresso\n https://matutando.projetos.superix.site/agenda/eve
 nto/16-diana-do-sertao-brasuca
DTSTART;VALUE=DATE:20240307
LOCATION:Brasuca (Avenida Santa Isabel 800\, Barão Geraldo\, Campinas\, São
  Paulo\, 13084-012)
SUMMARY:Diana do Sertão - Brasuca
URL:https://matutando.projetos.superix.site/agenda/evento/16-diana-do-serta
 o-brasuca
END:VEVENT
END:VCALENDAR
